BEGIN:VCALENDAR
VERSION:2.0
PRODID:-//Trawler-Calendar-Tool 0.2
METHOD:PUBLISH
BEGIN:VTIMEZONE
TZID:Europe/Berlin
BEGIN:STANDARD
TZNAME:CET
DTSTART:20100101T010000
RRULE:FREQ=YEARLY;BYDAY=-1SU;BYMONTH=10
TZOFFSETFROM:+0200
TZOFFSETTO:+0100
END:STANDARD
BEGIN:DAYLIGHT
TZNAME:CEST
DTSTART:20100101T010000
RRULE:FREQ=YEARLY;BYDAY=-1SU;BYMONTH=3
TZOFFSETFROM:+0100
TZOFFSETTO:+0200
END:DAYLIGHT
END:VTIMEZONE
X-WR-TIMEZONE:Europe/Berlin
X-ORIGINAL-URL:https://www.spd-suedbaden.de/termine/
BEGIN:VEVENT
DTSTART;TZID=Europe/Berlin:20260422T190000
DTEND;TZID=Europe/Berlin:20260422T220000
LOCATION:Hotel Jägerhaus\, Titisee-Neustadt
SUMMARY:Kreisstammtisch Hochschwarzwald
DESCRIPTION:Kreisstammtisch Hochschwarzwald
 Jeden 4. Mittwoch im
   Monat
 
 Ab 19.00 Uhr
 Hotel Jägerhaus
 Postplatz
   1-2\, 79822 Titisee-Neustadt
 
 Kommt vorbei und bringt gerne
   jemanden mit.
 Wir freuen uns auf ein gemütliches
   Beisammensein.
X-ALT-DESC;FMTTYPE=text/plain:Kreisstammtisch Hochschwarzwald
 Jeden 4. Mittwoch im
   Monat
 
 Ab 19.00 Uhr
 Hotel J&auml\;gerhaus
 Postplatz
   1-2\, 79822 Titisee-Neustadt
 
 Kommt vorbei und bringt gerne
   jemanden mit.
 Wir freuen uns auf ein gem&uuml\;tliches
   Beisammensein.
PRIORITY:5
UID:wscms192761-breisghochschw-0bcd8cd1d351cea3fb74e3bf447da139
URL:https://www.spd-suedbaden.de/calendar192761.ics
END:VEVENT
END:VCALENDAR